BEGIN:VCALENDAR
VERSION:2.0
PRODID:-//WIIMBY - ECPv6.7.0//NONSGML v1.0//EN
CALSCALE:GREGORIAN
METHOD:PUBLISH
X-WR-CALNAME:WIIMBY
X-ORIGINAL-URL:https://whatisinmybackyard.com
X-WR-CALDESC:Events for WIIMBY
REFRESH-INTERVAL;VALUE=DURATION:PT1H
X-Robots-Tag:noindex
X-PUBLISHED-TTL:PT1H
BEGIN:VTIMEZONE
TZID:Europe/London
BEGIN:DAYLIGHT
TZOFFSETFROM:+0000
TZOFFSETTO:+0100
TZNAME:BST
DTSTART:20240331T010000
END:DAYLIGHT
BEGIN:STANDARD
TZOFFSETFROM:+0100
TZOFFSETTO:+0000
TZNAME:GMT
DTSTART:20241027T010000
END:STANDARD
BEGIN:DAYLIGHT
TZOFFSETFROM:+0000
TZOFFSETTO:+0100
TZNAME:BST
DTSTART:20250330T010000
END:DAYLIGHT
BEGIN:STANDARD
TZOFFSETFROM:+0100
TZOFFSETTO:+0000
TZNAME:GMT
DTSTART:20251026T010000
END:STANDARD
TZID:Asia/Colombo
BEGIN:STANDARD
TZOFFSETFROM:+0530
TZOFFSETTO:+0530
TZNAME:+0530
DTSTART:20240101T000000
END:STANDARD
END:VTIMEZONE
BEGIN:VEVENT
DTSTART;TZID=Europe/London:20241129T190000
DTEND;TZID=Europe/London:20250105T170000
DTSTAMP:20260425T011944
CREATED:20241015T195756Z
LAST-MODIFIED:20241015T215914Z
UID:500-1732906800-1736096400@whatisinmybackyard.com
SUMMARY:A pantomime "Dick Whittington"
DESCRIPTION:A pantomime “Dick Whittington” written and directed by Plested Brown and Wilsher is being performed at the Corn Exchange in Newbury. This is from the 29th of November until the 5th of January. Details are available on the image. Refer image for contact details and social media links.\nContact: cornexchangenew.com/panto\n#NewburyPanto
URL:https://whatisinmybackyard.com/event/a-pantomime-dick-whittington/
LOCATION:RG14 5BD\, Corn Exchange\, Newbury\, West Berkshire\, RG14 5BD\, United Kingdom
CATEGORIES:London Events
ATTACH;FMTTYPE=image/jpeg:https://whatisinmybackyard.com/wp-content/uploads/2024/10/Tm1-1.jpg
END:VEVENT
BEGIN:VEVENT
DTSTART;TZID=Asia/Colombo:20241130T120000
DTEND;TZID=Asia/Colombo:20241130T170000
DTSTAMP:20260425T011944
CREATED:20241123T141535Z
LAST-MODIFIED:20241123T141535Z
UID:581-1732968000-1732986000@whatisinmybackyard.com
SUMMARY:Clarence Alumni Reunion
DESCRIPTION:*Hey Clarence Alumni\, it’s Party Time*! \n\n\nDrop everything\, call your batchmates\, and get ready because *Homecoming @ The Local* is here! \nIt’s the reunion you’ve been waiting for—the laughs\, the memories\, the epic vibes… all in one place!\n\n\n *Date:* Saturday\, 30th November 2024\n *Venue:* The Local\n *Time*: 12 PM onwards (because day parties are officially the cool thing now!)\n\n\nBring your best stories\, your wildest laughs\, and those legendary dance moves—this is Clarence style at its finest!  And yes\, there’ll be food\, music\, and enough fun to last until our next reunion.\n\n\n*EVERYONE is invited!* Yes\, that means you too—don’t even think about missing this. We’re rolling out the red carpet for every alumni\, so grab your crew and let’s make it an afternoon to remember! \n\n\n#*ClarenceAlumni #HomecomingParty #NoUniformNoRules*
URL:https://whatisinmybackyard.com/event/clarence-alumni-reunion/
LOCATION:the local\, Terrace Floor No 467 6th Block 80 80'th Feet Road Above Gorilla Barfare\, Bengaluru\, Karnataka\, 560095\, India
CATEGORIES:Bangalore Events
ATTACH;FMTTYPE=image/jpeg:https://whatisinmybackyard.com/wp-content/uploads/2024/11/467828070_10160508338196188_6845123991398592404_n.jpg
END:VEVENT
BEGIN:VEVENT
DTSTART;TZID=Europe/London:20241130T193000
DTEND;TZID=Europe/London:20241130T213000
DTSTAMP:20260425T011944
CREATED:20241123T144012Z
LAST-MODIFIED:20241123T144012Z
UID:585-1732995000-1733002200@whatisinmybackyard.com
SUMMARY:Christmas Craft evening
DESCRIPTION:St Mary’s Shaw \nThe Crafting for Christmas evening is on Saturday 30th November at St. Mary’s\, Shaw cum Donnington\, Church Hall.\nTime 7.30 – 9.30\nThere will be a variety of items to make and decorate your home or give as small gifts.\nWe shall serve some seasonal refreshments.\nThe cost is £10 per person\, please pay by cash on the night. \nThere are still some places available if you would like to invite a friend. See the invite shared and join the WhatsApp group via this link: https://chat.whatsapp.com/F2zcpINCM8yJM4qDNMVcBX to confirm.
URL:https://whatisinmybackyard.com/event/christmas-craft-evening/
LOCATION:St Marys Shaw\, Berkshire\, Church Rd\, Shaw\,\, Newbury\, West Berkshire\, RG14 2DR\, United Kingdom
CATEGORIES:London Events
ATTACH;FMTTYPE=image/jpeg:https://whatisinmybackyard.com/wp-content/uploads/2024/11/IMG-20241114-WA0000.jpg
END:VEVENT
END:VCALENDAR