BEGIN:VCALENDAR
VERSION:2.0
PRODID:-//WIIMBY - ECPv6.7.0//NONSGML v1.0//EN
CALSCALE:GREGORIAN
METHOD:PUBLISH
X-WR-CALNAME:WIIMBY
X-ORIGINAL-URL:https://whatisinmybackyard.com
X-WR-CALDESC:Events for WIIMBY
REFRESH-INTERVAL;VALUE=DURATION:PT1H
X-Robots-Tag:noindex
X-PUBLISHED-TTL:PT1H
BEGIN:VTIMEZONE
TZID:Europe/London
BEGIN:DAYLIGHT
TZOFFSETFROM:+0000
TZOFFSETTO:+0100
TZNAME:BST
DTSTART:20250330T010000
END:DAYLIGHT
BEGIN:STANDARD
TZOFFSETFROM:+0100
TZOFFSETTO:+0000
TZNAME:GMT
DTSTART:20251026T010000
END:STANDARD
END:VTIMEZONE
BEGIN:VEVENT
DTSTART;TZID=Europe/London:20250215T113000
DTEND;TZID=Europe/London:20250215T160000
DTSTAMP:20260424T144332
CREATED:20241123T122353Z
LAST-MODIFIED:20250202T220926Z
UID:570-1739619000-1739635200@whatisinmybackyard.com
SUMMARY:Hebron Reunion
DESCRIPTION:𝐇𝐞𝐛𝐫𝐨𝐧 𝐑𝐞𝐮𝐧𝐢𝐨𝐧 𝟐𝟎𝟐𝟓!! \n\n\nWe are excited to share that the venue for our reunion has been finalized! The gathering will be at 𝐁𝐨𝐦𝐛𝐚𝐲 𝐏𝐚𝐥𝐚𝐜𝐞\, 𝐥𝐨𝐜𝐚𝐭𝐞𝐝 𝐚𝐭 𝟓𝟎 𝐂𝐨𝐧𝐧𝐚𝐮𝐠𝐡𝐭 𝐏𝐥𝐚𝐜𝐞\, 𝐋𝐨𝐧𝐝𝐨𝐧 𝐖𝟐 𝟐𝐀𝐀.\n\n\nPlease mark your calendars and prepare for an unforgettable evening filled with laughter\, camaraderie\, and celebration.  \n\n\nIf you’re interested in learning more about the Alumni Coordinator in your country or wish to organise a reunion in your location\, please reach out to us at alumni@hebronooty.org or sam.stanlystaff@hebronooty.org\n\n\n\nClick the link here for more details regarding the reunion. https://bit.ly/3WHx1Eq \n\n\n\n\n\n\n#hebronschool #hebronschoolooty #londonreunion #Hebronalumni #125yearsofhebronschool #internationalschool
URL:https://whatisinmybackyard.com/event/hebron-reunion/
LOCATION:W2 2AA\, Bombay Palace
CATEGORIES:London Events
ATTACH;FMTTYPE=image/jpeg:https://whatisinmybackyard.com/wp-content/uploads/2024/11/Hebron-Reunion.jpg
END:VEVENT
END:VCALENDAR