BEGIN:VCALENDAR
VERSION:2.0
PRODID:-//WIIMBY - ECPv6.7.0//NONSGML v1.0//EN
CALSCALE:GREGORIAN
METHOD:PUBLISH
X-WR-CALNAME:WIIMBY
X-ORIGINAL-URL:https://whatisinmybackyard.com
X-WR-CALDESC:Events for WIIMBY
REFRESH-INTERVAL;VALUE=DURATION:PT1H
X-Robots-Tag:noindex
X-PUBLISHED-TTL:PT1H
BEGIN:VTIMEZONE
TZID:Europe/London
BEGIN:DAYLIGHT
TZOFFSETFROM:+0000
TZOFFSETTO:+0100
TZNAME:BST
DTSTART:20250330T010000
END:DAYLIGHT
BEGIN:STANDARD
TZOFFSETFROM:+0100
TZOFFSETTO:+0000
TZNAME:GMT
DTSTART:20251026T010000
END:STANDARD
END:VTIMEZONE
BEGIN:VEVENT
DTSTART;TZID=Europe/London:20250427T193000
DTEND;TZID=Europe/London:20250427T233000
DTSTAMP:20260423T192837
CREATED:20250423T085500Z
LAST-MODIFIED:20250423T085500Z
UID:653-1745782200-1745796600@whatisinmybackyard.com
SUMMARY:Michael Learns To Rock live
DESCRIPTION:Get nostalgic with all-time fan favourites. \nMark your calendars for an evening with Michael Learns To Rock\, as the Danish band takes the stage at Coca-Cola Arena on 27 April for the very first time. The trio has gained immense popularity across Asia with over 800 concerts spanning India\, South Korea\, the Philippines and beyond. Get ready to sing along to top tracks including Sleeping Child\, 25 Minutes\, That’s Why (You Go Away)\, Paint My Love and Take Me To Your Heart. \nSince their debut in 1988\, the group has won hearts around the globe with their timeless hits. The band’s name was coined as a tongue-in-cheek nod to Michael Jackson and its members’ aspiration to ‘learn to rock’. With over 11 million albums sold and 1.5 billion streams\, lead vocalist Jascha Richter\, drummer Kare Wanscher and guitarist Mikkel Lentz’s debut album conquered the regional music scene with popular track The Actor. \nDoors open at 6pm. \nTicket Categories:\nBronze: AED199\nSilver: AED299\nStanding: AED299\nGold: AED399\nFanpit Standing: AED599\nDiamond: AED599
URL:https://whatisinmybackyard.com/event/michael-learns-to-rock-live/
LOCATION:City Walk\, Al Safa Street\, Dubai\, City Walk\, Al Safa Street\, Dubai\, Dubai
CATEGORIES:Experiences,Middle East Events
ATTACH;FMTTYPE=image/png:https://whatisinmybackyard.com/wp-content/uploads/2025/04/MLTR.png
END:VEVENT
BEGIN:VEVENT
DTSTART;TZID=Europe/London:20250426T200000
DTEND;TZID=Europe/London:20250427T000000
DTSTAMP:20260423T192837
CREATED:20250424T073645Z
LAST-MODIFIED:20250424T073645Z
UID:661-1745697600-1745712000@whatisinmybackyard.com
SUMMARY:Tango After Dark
DESCRIPTION:Watch a performance brimming with passion unfold at Tango After Dark\, a show led by genre superstars German Cornejo and Gisela Galeassi. Accompanied by an ensemble of ten dancers\, the World Tango champions will ignite the Dubai Opera stage with the vibrant spirit of Buenos Aires on 26 and 27 April. Brought to life with the compositions of Astor Piazzolla\, a live band of seven musicians alongside two vocalists will deliver playful sounds which will take you on a trip to Latin America. \nBorn in Zarate\, Argentinian tango dancer Cornejo became World Tango Champion in 2015. The artist has performed at prestigious venues worldwide\, including the Shanghai Oriental Arts Center\, The Joyce Theatre – New York and the Bolshoi Theatre in Moscow. Galeassi hails from Cordoba\, where she began her dance journey at the age of three. The dancer has graced stages across continents including the Sydney Opera House and Mandalay Bay Arena in Las Vegas. \nTicket Categories:\nGrand Circle Bronze: AED 330\nGrand Circle Silver: AED 390\nGrand Circle Gold: AED 490\nRoyal Circle Platinum: AED 580\nRoyal Circle VIP: AED 660
URL:https://whatisinmybackyard.com/event/tango-after-dark/
LOCATION:Sheikh Mohammed Bin Rashid Boulevard (near Burj Khalifa)\, Downtown Dubai\, Dubai\, Sheikh Mohammed Bin Rashid Boulevard (near Burj Khalifa)\, Downtown Dubai\,\, Dubai\, Dubai\, United Arab Emirates
CATEGORIES:Experiences,Middle East Events
ATTACH;FMTTYPE=image/png:https://whatisinmybackyard.com/wp-content/uploads/2025/04/Tango.png
END:VEVENT
BEGIN:VEVENT
DTSTART;VALUE=DATE:20250322
DTEND;VALUE=DATE:20250323
DTSTAMP:20260423T192837
CREATED:20250318T204504Z
LAST-MODIFIED:20250318T205004Z
UID:641-1742601600-1742687999@whatisinmybackyard.com
SUMMARY:Ramadan Fireworks Nights - Dynamic displays illuminate the skies.
DESCRIPTION:Get ready to watch the night skies light up in sparkling and unforgettable displays of enchanting fireworks as the city comes together to celebrate the joyous month of Ramadan. Join in the festivities with family and friends every Saturday night until 22 March at Al Seef\, Dubai Festival City Mall and at Bluewaters and The Beach\, JBR. \nOn 1 and 8 March\, watch spectacular fireworks shows at Al Seef\, situated directly on the bustling Dubai Creek. The popular destination\, steeped in history\, is also the perfect destination to pick up Ramadan gifts with local artistry\, intricate craftsmanship and traditional handiwork alongside modern fashion labels on offer. \nHead to the waterfront lifestyle destination Dubai Festival City Mall on 15 March for the next Ramadan Fireworks Nights show on 15 March. Make a day of it with plenty to do at the mall including dedicated entertainment venues for the little ones like Fabyland and the LEGO-based Bricobilandia and enjoy al fresco dinner by the water\, or dine inside the mall at one of many restaurants including Al Fanar\, Famous Dave’s\, P.F. Chang’s and more. \nDon’t miss the last shows in the Ramadan Fireworks Nights series at Bluewaters and The Beach\, JBR on 22 March. Enjoy unbeatable views of the celebrations from one of the many sought-after dining hotspots and make the most of these special moments with the ones you love. \nEach show starts at 10pm and is free to attend. \nFireworks schedule:\n22 March\nBluewaters and The Beach\, JBR – 10pm
URL:https://whatisinmybackyard.com/event/ramadan-fireworks-nights-dynamic-displays-illuminate-the-skies/
LOCATION:Al Seef and Dubai Festival City Mall\, Bluewaters and The Beach\, JBR\, Al Seef and Dubai Festival City Mall\, Bluewaters and The Beach\, JBR\, Dubai\, Dubai\, United Arab Emirates
CATEGORIES:Experiences,Middle East Events
ATTACH;FMTTYPE=image/avif:https://whatisinmybackyard.com/wp-content/uploads/2025/03/diwali-festival-plaza-fireworks-1560x1000-copy-copy.avif
END:VEVENT
END:VCALENDAR